BEGIN:VCALENDAR
VERSION:2.0
PRODID:-//WEBFUNA - ECPv6.15.15//NONSGML v1.0//EN
CALSCALE:GREGORIAN
METHOD:PUBLISH
X-ORIGINAL-URL:https://www.webfuna.org
X-WR-CALDESC:Events for WEBFUNA
REFRESH-INTERVAL;VALUE=DURATION:PT1H
X-Robots-Tag:noindex
X-PUBLISHED-TTL:PT1H
BEGIN:VTIMEZONE
TZID:UTC
BEGIN:STANDARD
TZOFFSETFROM:+0000
TZOFFSETTO:+0000
TZNAME:UTC
DTSTART:20200101T000000
END:STANDARD
END:VTIMEZONE
BEGIN:VEVENT
DTSTART;VALUE=DATE:20231016
DTEND;VALUE=DATE:20231017
DTSTAMP:20260422T072619
CREATED:20240210T073553Z
LAST-MODIFIED:20240314T100303Z
UID:5724-1697414400-1697500799@www.webfuna.org
SUMMARY:World Values Day 2023
DESCRIPTION:
URL:https://www.webfuna.org/event/world-value-day-2023/
CATEGORIES:Recent Activities,webinar
END:VEVENT
BEGIN:VEVENT
DTSTART;VALUE=DATE:20230605
DTEND;VALUE=DATE:20230606
DTSTAMP:20260422T072619
CREATED:20240215T090428Z
LAST-MODIFIED:20240312T171104Z
UID:5757-1685923200-1686009599@www.webfuna.org
SUMMARY:Inauguration of Centre for UN & Peace Studies and Library & Seminar on Environmental Degradation-Mitigating Challenges
DESCRIPTION:From Left to right : DR. RAHUL VARMA (Secretary General\, WEBFUNA) \, MR. MANFRED AUSTER (Consul General of the Federal Republic of Germany)\,MR. SITARAM SHARMA (Chairman\, WEBFUNA)\, SRIMAD BHAKTI SUNDAR SANYASI GOSWAMI MAHARAJ (President & Acharya\, Gaudiya Mission)\, MS. ROWAN AINSWORTH (Consul General of Australia)\, MR. RAJEEV MAHESHWARI (Secretary General\, WEBFUNA).  \n \n\nThe large Audience at the program :\n\n \n  \n  \n  \n  \n  \n  \n  \n  \n  \nB. Inauguration of “CENTRE FOR UN & PEACE STUDIES and LIBRARY” : \n \n  \nC. At Gaudiya Mission’s Library : \n \n \n  \n  \n 
URL:https://www.webfuna.org/event/inauguration-of-centre-for-un-peace-studies-and-library-seminar-on-environmental-degradation-mitigating-challenges/
CATEGORIES:Recent Activities,webinar
END:VEVENT
BEGIN:VEVENT
DTSTART;VALUE=DATE:20221029
DTEND;VALUE=DATE:20221030
DTSTAMP:20260422T072619
CREATED:20240215T082431Z
LAST-MODIFIED:20240305T181054Z
UID:5733-1667001600-1667087999@www.webfuna.org
SUMMARY:Inauguration of Centre for UN & peace studies and founding of its library & Seminar on Challenges of climate change & role of the United Nations
DESCRIPTION:Inaugurating the Seminar with candle lighting (from left) Mr. Nicholas Low\, British Deputy High Commissioner in Kolkata; Mr. Sitaram Sharma\, Chairman of WEBFUNA; Sri Srimad Bhakti Sundar Sanyasi Goswami Maharaj\, Acharya & President\, Gaudiya Mission; Ms. Melinda Pavek\, Consul General of the USA in Kolkata\, Mr. Jugal Kishore Saraf\, Honorary Consul of Chile in Kolkata and Dr. Bhabatosh Biswas\, former Vice Chancellor of WBUHS. \n \n  \nShri Sitaram Sharma presenting 100 copies of his book “United Nations: 100 Popular Questions & Answers” for the Library. \n \nLarge audience at the Auditorium \n 
URL:https://www.webfuna.org/event/inauguration-of-centre-for-un-peace-studies-and-founding-of-its-library-seminar-on-challenges-of-climate-change-role-of-the-united-nations/
CATEGORIES:Recent Activities,webinar
END:VEVENT
BEGIN:VEVENT
DTSTART;TZID=UTC:20210315T193000
DTEND;TZID=UTC:20210315T193000
DTSTAMP:20260422T072619
CREATED:20210315T124838Z
LAST-MODIFIED:20230221T064847Z
UID:5194-1615836600-1615836600@www.webfuna.org
SUMMARY:Online Discussion on - Breaking the glass ceiling: Women is Social Entrepreneurship
DESCRIPTION:
URL:https://www.webfuna.org/event/online-discussion-on-breaking-the-glass-ceiling-women-is-social-entrepreneurship/
CATEGORIES:Recent Activities,webinar
END:VEVENT
END:VCALENDAR